BEGIN:VCALENDAR
VERSION:2.0
PRODID:-//Watford Parish Council//Meeting Calendar//EN
CALSCALE:GREGORIAN
METHOD:PUBLISH
BEGIN:VEVENT
UID:69518-20221219@watford-pc.gov.uk
DTSTAMP:20260419T125335Z
DTSTART;VALUE=DATE:20221219
DTEND;VALUE=DATE:20221220
SUMMARY:Council Meeting &#8211\\; 19th December 2022
DESCRIPTION:Full Council Meeting\nView details: https://watford-pc.gov.uk/meetings/council-meeting-19th-december-2022/
URL:https://watford-pc.gov.uk/meetings/council-meeting-19th-december-2022/
END:VEVENT
END:VCALENDAR
