BEGIN:VCALENDAR
VERSION:2.0
PRODID:-//Watford Parish Council//Meeting Calendar//EN
CALSCALE:GREGORIAN
METHOD:PUBLISH
BEGIN:VEVENT
UID:69523-20210401@watford-pc.gov.uk
DTSTAMP:20260419T141715Z
DTSTART;VALUE=DATE:20210401
DTEND;VALUE=DATE:20210402
SUMMARY:Council Meeting &#8211\\; 1st April 2021
DESCRIPTION:Full Council Meeting\nView details: https://watford-pc.gov.uk/meetings/council-meeting-1st-april-2021/
URL:https://watford-pc.gov.uk/meetings/council-meeting-1st-april-2021/
END:VEVENT
END:VCALENDAR
