BEGIN:VCALENDAR
VERSION:2.0
PRODID:-//Watford Parish Council//Meeting Calendar//EN
CALSCALE:GREGORIAN
METHOD:PUBLISH
BEGIN:VEVENT
UID:69529-20201203@watford-pc.gov.uk
DTSTAMP:20260419T201835Z
DTSTART;VALUE=DATE:20201203
DTEND;VALUE=DATE:20201204
SUMMARY:Council Meeting &#8211\\; 3rd December 2020
DESCRIPTION:Full Council Meeting\nView details: https://watford-pc.gov.uk/meetings/council-meeting-3rd-december-2020/
URL:https://watford-pc.gov.uk/meetings/council-meeting-3rd-december-2020/
END:VEVENT
END:VCALENDAR
