BEGIN:VCALENDAR
VERSION:2.0
PRODID:-//Watford Parish Council//Meeting Calendar//EN
CALSCALE:GREGORIAN
METHOD:PUBLISH
BEGIN:VEVENT
UID:69538-20210204@watford-pc.gov.uk
DTSTAMP:20260419T172822Z
DTSTART;VALUE=DATE:20210204
DTEND;VALUE=DATE:20210205
SUMMARY:Council Meeting &#8211\\; 4th February 2021
DESCRIPTION:Full Council Meeting\nView details: https://watford-pc.gov.uk/meetings/council-meeting-4th-february-2021/
URL:https://watford-pc.gov.uk/meetings/council-meeting-4th-february-2021/
END:VEVENT
END:VCALENDAR
