BEGIN:VCALENDAR
VERSION:2.0
PRODID:-//Watford Parish Council//Meeting Calendar//EN
CALSCALE:GREGORIAN
METHOD:PUBLISH
BEGIN:VEVENT
UID:69545-20200702@watford-pc.gov.uk
DTSTAMP:20260420T015355Z
DTSTART;VALUE=DATE:20200702
DTEND;VALUE=DATE:20200703
SUMMARY:Council Meeting &#8211\\; 2nd July 2020
DESCRIPTION:Full Council Meeting\nView details: https://watford-pc.gov.uk/meetings/council-meeting-2nd-july-2020/
URL:https://watford-pc.gov.uk/meetings/council-meeting-2nd-july-2020/
END:VEVENT
END:VCALENDAR
