BEGIN:VCALENDAR
VERSION:2.0
PRODID:-//Watford Parish Council//Meeting Calendar//EN
CALSCALE:GREGORIAN
METHOD:PUBLISH
BEGIN:VEVENT
UID:69551-20200604@watford-pc.gov.uk
DTSTAMP:20260420T032147Z
DTSTART;VALUE=DATE:20200604
DTEND;VALUE=DATE:20200605
SUMMARY:Council Meeting &#8211\\; 4th June 2020
DESCRIPTION:Full Council Meeting\nView details: https://watford-pc.gov.uk/meetings/council-meeting-4th-june-2020/
URL:https://watford-pc.gov.uk/meetings/council-meeting-4th-june-2020/
END:VEVENT
END:VCALENDAR
