BEGIN:VCALENDAR
VERSION:2.0
PRODID:-//Watford Parish Council//Meeting Calendar//EN
CALSCALE:GREGORIAN
METHOD:PUBLISH
BEGIN:VEVENT
UID:69560-20210304@watford-pc.gov.uk
DTSTAMP:20260419T154813Z
DTSTART;VALUE=DATE:20210304
DTEND;VALUE=DATE:20210305
SUMMARY:Council Meeting &#8211\\; 4th March 2021
DESCRIPTION:Full Council Meeting\nView details: https://watford-pc.gov.uk/meetings/council-meeting-4th-march-2021/
URL:https://watford-pc.gov.uk/meetings/council-meeting-4th-march-2021/
END:VEVENT
END:VCALENDAR
