BEGIN:VCALENDAR
VERSION:2.0
PRODID:-//Watford Parish Council//Meeting Calendar//EN
CALSCALE:GREGORIAN
METHOD:PUBLISH
BEGIN:VEVENT
UID:69566-20200507@watford-pc.gov.uk
DTSTAMP:20260420T043850Z
DTSTART;VALUE=DATE:20200507
DTEND;VALUE=DATE:20200508
SUMMARY:Council Meeting &#8211\\; 7th May 2020
DESCRIPTION:Full Council Meeting\nView details: https://watford-pc.gov.uk/meetings/council-meeting-7th-may-2020/
URL:https://watford-pc.gov.uk/meetings/council-meeting-7th-may-2020/
END:VEVENT
END:VCALENDAR
