BEGIN:VCALENDAR
VERSION:2.0
PRODID:-//Watford Parish Council//Meeting Calendar//EN
CALSCALE:GREGORIAN
METHOD:PUBLISH
BEGIN:VEVENT
UID:69571-20201105@watford-pc.gov.uk
DTSTAMP:20260419T213746Z
DTSTART;VALUE=DATE:20201105
DTEND;VALUE=DATE:20201106
SUMMARY:Council Meeting &#8211\\; 5th November 2020
DESCRIPTION:Full Council Meeting\nView details: https://watford-pc.gov.uk/meetings/council-meeting-5th-november-2020/
URL:https://watford-pc.gov.uk/meetings/council-meeting-5th-november-2020/
END:VEVENT
END:VCALENDAR
