BEGIN:VCALENDAR
VERSION:2.0
PRODID:-//Watford Parish Council//Meeting Calendar//EN
CALSCALE:GREGORIAN
METHOD:PUBLISH
BEGIN:VEVENT
UID:69577-20201001@watford-pc.gov.uk
DTSTAMP:20260419T230137Z
DTSTART;VALUE=DATE:20201001
DTEND;VALUE=DATE:20201002
SUMMARY:Council Meeting &#8211\\; 1st October 2020
DESCRIPTION:Full Council Meeting\nView details: https://watford-pc.gov.uk/meetings/council-meeting-1st-october-2020/
URL:https://watford-pc.gov.uk/meetings/council-meeting-1st-october-2020/
END:VEVENT
END:VCALENDAR
