BEGIN:VCALENDAR
VERSION:2.0
PRODID:-//Watford Parish Council//Meeting Calendar//EN
CALSCALE:GREGORIAN
METHOD:PUBLISH
BEGIN:VEVENT
UID:69599-20210121@watford-pc.gov.uk
DTSTAMP:20260419T185308Z
DTSTART;VALUE=DATE:20210121
DTEND;VALUE=DATE:20210122
SUMMARY:Extraordinary Council Meeting &#8211\\; 21st January 2021
DESCRIPTION:Full Council Meeting\nView details: https://watford-pc.gov.uk/meetings/extraordinary-council-meeting-21st-january-2021/
URL:https://watford-pc.gov.uk/meetings/extraordinary-council-meeting-21st-january-2021/
END:VEVENT
END:VCALENDAR
