BEGIN:VCALENDAR
VERSION:2.0
PRODID:-//Watford Parish Council//Meeting Calendar//EN
CALSCALE:GREGORIAN
METHOD:PUBLISH
BEGIN:VEVENT
UID:69771-20230711@watford-pc.gov.uk
DTSTAMP:20260419T125802Z
DTSTART;VALUE=DATE:20230711
DTEND;VALUE=DATE:20230712
SUMMARY:Council Meeting &#8211\\; 11th July 2023
DESCRIPTION:Full Council Meeting\nView details: https://watford-pc.gov.uk/meetings/meeting-name-here-2/
URL:https://watford-pc.gov.uk/meetings/meeting-name-here-2/
END:VEVENT
END:VCALENDAR
