BEGIN:VCALENDAR
VERSION:2.0
PRODID:-//Watford Parish Council//Meeting Calendar//EN
CALSCALE:GREGORIAN
METHOD:PUBLISH
BEGIN:VEVENT
UID:69810-20230912@watford-pc.gov.uk
DTSTAMP:20260419T143051Z
DTSTART;VALUE=DATE:20230912
DTEND;VALUE=DATE:20230913
SUMMARY:Council Meeting – 12th September 2023
DESCRIPTION:Full Council Meeting\nView details: https://watford-pc.gov.uk/meetings/meeting-name-here-3/
URL:https://watford-pc.gov.uk/meetings/meeting-name-here-3/
END:VEVENT
END:VCALENDAR
