BEGIN:VCALENDAR
VERSION:2.0
PRODID:-//Watford Parish Council//Meeting Calendar//EN
CALSCALE:GREGORIAN
METHOD:PUBLISH
BEGIN:VEVENT
UID:69817-20231010@watford-pc.gov.uk
DTSTAMP:20260419T160758Z
DTSTART;VALUE=DATE:20231010
DTEND;VALUE=DATE:20231011
SUMMARY:Council Meeting – 10th October 2023
DESCRIPTION:Full Council Meeting\nView details: https://watford-pc.gov.uk/meetings/council-meeting-10th-october-2023/
URL:https://watford-pc.gov.uk/meetings/council-meeting-10th-october-2023/
END:VEVENT
END:VCALENDAR
