BEGIN:VCALENDAR
VERSION:2.0
PRODID:-//Watford Parish Council//Meeting Calendar//EN
CALSCALE:GREGORIAN
METHOD:PUBLISH
BEGIN:VEVENT
UID:69820-20231114@watford-pc.gov.uk
DTSTAMP:20260419T174021Z
DTSTART;VALUE=DATE:20231114
DTEND;VALUE=DATE:20231115
SUMMARY:Council Meeting &#8211\\; 14th November 2023
DESCRIPTION:Full Council Meeting\nView details: https://watford-pc.gov.uk/meetings/council-meeting-14th-november-2023/
URL:https://watford-pc.gov.uk/meetings/council-meeting-14th-november-2023/
END:VEVENT
END:VCALENDAR
