BEGIN:VCALENDAR
VERSION:2.0
PRODID:-//Watford Parish Council//Meeting Calendar//EN
CALSCALE:GREGORIAN
METHOD:PUBLISH
BEGIN:VEVENT
UID:69836-20231212@watford-pc.gov.uk
DTSTAMP:20260419T191357Z
DTSTART;VALUE=DATE:20231212
DTEND;VALUE=DATE:20231213
SUMMARY:Council Meeting – 14th December 2023
DESCRIPTION:Full Council Meeting\nView details: https://watford-pc.gov.uk/meetings/council-meeting-14th-december-2023/
URL:https://watford-pc.gov.uk/meetings/council-meeting-14th-december-2023/
END:VEVENT
END:VCALENDAR
