BEGIN:VCALENDAR
VERSION:2.0
PRODID:-//Watford Parish Council//Meeting Calendar//EN
CALSCALE:GREGORIAN
METHOD:PUBLISH
BEGIN:VEVENT
UID:69854-20240109@watford-pc.gov.uk
DTSTAMP:20260419T202339Z
DTSTART;VALUE=DATE:20240109
DTEND;VALUE=DATE:20240110
SUMMARY:Council Meeting – 9th January 2024
DESCRIPTION:Full Council Meeting\nView details: https://watford-pc.gov.uk/meetings/council-meeting-9th-january-2024/
URL:https://watford-pc.gov.uk/meetings/council-meeting-9th-january-2024/
END:VEVENT
END:VCALENDAR
