BEGIN:VCALENDAR
VERSION:2.0
PRODID:-//Watford Parish Council//Meeting Calendar//EN
CALSCALE:GREGORIAN
METHOD:PUBLISH
BEGIN:VEVENT
UID:69859-20240312@watford-pc.gov.uk
DTSTAMP:20260419T214041Z
DTSTART;VALUE=DATE:20240312
DTEND;VALUE=DATE:20240313
SUMMARY:Council Meeting – 12th March 2024
DESCRIPTION:Full Council Meeting\nView details: https://watford-pc.gov.uk/meetings/council-meeting-12th-march-2024/
URL:https://watford-pc.gov.uk/meetings/council-meeting-12th-march-2024/
END:VEVENT
END:VCALENDAR
