BEGIN:VCALENDAR
VERSION:2.0
PRODID:-//Watford Parish Council//Meeting Calendar//EN
CALSCALE:GREGORIAN
METHOD:PUBLISH
BEGIN:VEVENT
UID:69862-20240409@watford-pc.gov.uk
DTSTAMP:20260419T225743Z
DTSTART;VALUE=DATE:20240409
DTEND;VALUE=DATE:20240410
SUMMARY:Council Meeting – 9th April 2024
DESCRIPTION:Full Council Meeting\nView details: https://watford-pc.gov.uk/meetings/council-meeting-12th-march-2024-2/
URL:https://watford-pc.gov.uk/meetings/council-meeting-12th-march-2024-2/
END:VEVENT
END:VCALENDAR
